BEGIN:VCALENDAR
VERSION:2.0
PRODID:-//Tukios.com/
BEGIN:VEVENT
UID:f7fa3d4b-6fe0-431f-88b8-c9a8479d1a30@www.asturner.com
DTSTAMP:20260424T173815Z
DTSTART:20260504T200000Z
DTEND:20260504T220000Z
SUMMARY:Celebration of Life
DESCRIPTION:
URL:https://www.asturner.com/obituaries/eloise-ragsdale
LOCATION:The Lake House at Avondale Estates 59 Lakeshore Dr  Avondale 
	Estates GA 30002
GEO:33.7684064;-84.2641261
END:VEVENT
END:VCALENDAR