BEGIN:VCALENDAR
VERSION:2.0
PRODID:-//Tukios.com/
BEGIN:VEVENT
UID:48dcf06b-af88-4d85-b73c-08807cfdffac@www.asturner.com
DTSTAMP:20260421T175649Z
DTSTART:20260425T190000Z
DTEND:20260425T200000Z
SUMMARY:Memorial Service
DESCRIPTION:
URL:https://www.asturner.com/obituaries/james-tomlinson
LOCATION:North Decatur Presbyterian Church 611 Medlock Rd.  Decatur GA 
	30033
GEO:33.7946848;-84.2894897
END:VEVENT
END:VCALENDAR