BEGIN:VCALENDAR
VERSION:2.0
PRODID:-//Tukios.com/
BEGIN:VEVENT
UID:2e6707ec-0c7a-4f74-a78f-f8d2963b3b2e@www.asturner.com
DTSTAMP:20260424T164756Z
DTSTART:20260425T150000Z
DTEND:20260425T180000Z
SUMMARY:Visitation
DESCRIPTION:
URL:https://www.asturner.com/obituaries/mary-hardin
LOCATION:A.S. Turner & Sons Funeral Home and Crematory 2773 N. Decatur 
	Road  Decatur GA 30033
GEO:33.7929404;-84.2797384
END:VEVENT
END:VCALENDAR