BEGIN:VCALENDAR
VERSION:2.0
PRODID:-//Tukios.com/
BEGIN:VEVENT
UID:8b70f97a-975c-40c7-9848-9efb7bf060f1@www.asturner.com
DTSTAMP:20260424T164833Z
DTSTART:20260425T180000Z
DTEND:20260425T190000Z
SUMMARY:Funeral Service
DESCRIPTION:
URL:https://www.asturner.com/obituaries/mary-hardin
LOCATION:A.S. Turner & Sons Funeral Home and Crematory 2773 N. Decatur 
	Road  Decatur GA 30033
GEO:33.7929404;-84.2797384
END:VEVENT
END:VCALENDAR