BEGIN:VCALENDAR
VERSION:2.0
PRODID:-//Tukios.com/
BEGIN:VEVENT
UID:4ed51be7-df0c-4fae-8e42-b2db1ab77a59@www.asturner.com
DTSTAMP:20260421T200352Z
DTSTART:20260501T190000Z
DTEND:20260501T200000Z
SUMMARY:Burial
DESCRIPTION:
URL:https://www.asturner.com/obituaries/sandra-kenney
LOCATION:Honey Creek Woodlands 2625 GA-212  Conyers GA 30094
GEO:33.5840451;-84.0677916
END:VEVENT
END:VCALENDAR